BEGIN:VCALENDAR
VERSION:2.0
PRODID:-//Wilmington Learning Collaborative - ECPv6.15.20//NONSGML v1.0//EN
CALSCALE:GREGORIAN
METHOD:PUBLISH
X-WR-CALNAME:Wilmington Learning Collaborative
X-ORIGINAL-URL:https://wlc-de.org
X-WR-CALDESC:Events for Wilmington Learning Collaborative
REFRESH-INTERVAL;VALUE=DURATION:PT1H
X-Robots-Tag:noindex
X-PUBLISHED-TTL:PT1H
BEGIN:VTIMEZONE
TZID:America/New_York
BEGIN:DAYLIGHT
TZOFFSETFROM:-0500
TZOFFSETTO:-0400
TZNAME:EDT
DTSTART:20240310T070000
END:DAYLIGHT
BEGIN:STANDARD
TZOFFSETFROM:-0400
TZOFFSETTO:-0500
TZNAME:EST
DTSTART:20241103T060000
END:STANDARD
BEGIN:DAYLIGHT
TZOFFSETFROM:-0500
TZOFFSETTO:-0400
TZNAME:EDT
DTSTART:20250309T070000
END:DAYLIGHT
BEGIN:STANDARD
TZOFFSETFROM:-0400
TZOFFSETTO:-0500
TZNAME:EST
DTSTART:20251102T060000
END:STANDARD
BEGIN:DAYLIGHT
TZOFFSETFROM:-0500
TZOFFSETTO:-0400
TZNAME:EDT
DTSTART:20260308T070000
END:DAYLIGHT
BEGIN:STANDARD
TZOFFSETFROM:-0400
TZOFFSETTO:-0500
TZNAME:EST
DTSTART:20261101T060000
END:STANDARD
END:VTIMEZONE
BEGIN:VEVENT
DTSTART;TZID=America/New_York:20250506T180000
DTEND;TZID=America/New_York:20250506T180000
DTSTAMP:20260421T082510
CREATED:20250429T194958Z
LAST-MODIFIED:20250429T194958Z
UID:10000075-1746554400-1746554400@wlc-de.org
SUMMARY:May 2025 Special Council Meeting
DESCRIPTION:Council Meeting Agenda
URL:https://wlc-de.org/event/may-2025-special-council-meeting/
LOCATION:Red Clay Consolidated School District\, 1502 Spruce Avenue\, Wilmington\, DE\, 19805\, United States
CATEGORIES:Council Meetings
ATTACH;FMTTYPE=image/webp:https://wlc-de.org/wp-content/uploads/2024/06/WLC_Press-Image-1536x608.jpg-1.webp
END:VEVENT
END:VCALENDAR