BEGIN:VCALENDAR
VERSION:2.0
PRODID:-//Wilmington Learning Collaborative - ECPv6.15.20//NONSGML v1.0//EN
CALSCALE:GREGORIAN
METHOD:PUBLISH
X-WR-CALNAME:Wilmington Learning Collaborative
X-ORIGINAL-URL:https://wlc-de.org
X-WR-CALDESC:Events for Wilmington Learning Collaborative
REFRESH-INTERVAL;VALUE=DURATION:PT1H
X-Robots-Tag:noindex
X-PUBLISHED-TTL:PT1H
BEGIN:VTIMEZONE
TZID:America/New_York
BEGIN:DAYLIGHT
TZOFFSETFROM:-0500
TZOFFSETTO:-0400
TZNAME:EDT
DTSTART:20240310T070000
END:DAYLIGHT
BEGIN:STANDARD
TZOFFSETFROM:-0400
TZOFFSETTO:-0500
TZNAME:EST
DTSTART:20241103T060000
END:STANDARD
BEGIN:DAYLIGHT
TZOFFSETFROM:-0500
TZOFFSETTO:-0400
TZNAME:EDT
DTSTART:20250309T070000
END:DAYLIGHT
BEGIN:STANDARD
TZOFFSETFROM:-0400
TZOFFSETTO:-0500
TZNAME:EST
DTSTART:20251102T060000
END:STANDARD
BEGIN:DAYLIGHT
TZOFFSETFROM:-0500
TZOFFSETTO:-0400
TZNAME:EDT
DTSTART:20260308T070000
END:DAYLIGHT
BEGIN:STANDARD
TZOFFSETFROM:-0400
TZOFFSETTO:-0500
TZNAME:EST
DTSTART:20261101T060000
END:STANDARD
END:VTIMEZONE
BEGIN:VEVENT
DTSTART;TZID=America/New_York:20250625T170000
DTEND;TZID=America/New_York:20250625T190000
DTSTAMP:20260421T084941
CREATED:20250321T211932Z
LAST-MODIFIED:20250620T135021Z
UID:10000070-1750870800-1750878000@wlc-de.org
SUMMARY:June '25 Wellness Wednesdays
DESCRIPTION:Educators and council members\, summer is here—take this time to relax\, reset\, and focus on YOU! Join us for Wellness Wednesdays\, an evening designed to support your health and well-being. Unwind with fresh-pressed juices\, light plant-based bites\, mobility stretching\, and mindfulness practices to help you feel refreshed and renewed. \n📅 June 25 | 5–7 PM\n📍 Location: The Juice Joint 2.0\, 102 S. Union St.\, Wilmington\, DE\n🔗 Spots are limited to 25 participants—RSVP today! \nRegister Here\n\n\n                \n                        \n                            Wellness Wednesday June 25\, 2025 RSVP\n                             \n							"*" indicates required fields \n                        \n                        LinkedInThis field is for validation purposes and should be left unchanged.Name*\n                            \n                            \n                                                    \n                                                    First\n                                                \n                            \n                            \n                                                    \n                                                    Last\n                                                \n                            \n                        Email*\n                            \n                        CAPTCHA
URL:https://wlc-de.org/event/wellness-wednesdays-june-2025/
LOCATION:Delaware
ATTACH;FMTTYPE=image/webp:https://wlc-de.org/wp-content/uploads/2024/06/WLC_Press-Image-1536x608.jpg-1.webp
END:VEVENT
END:VCALENDAR