BEGIN:VCALENDAR
VERSION:2.0
PRODID:-//Wilmington Learning Collaborative - ECPv6.15.20//NONSGML v1.0//EN
CALSCALE:GREGORIAN
METHOD:PUBLISH
X-WR-CALNAME:Wilmington Learning Collaborative
X-ORIGINAL-URL:https://wlc-de.org
X-WR-CALDESC:Events for Wilmington Learning Collaborative
REFRESH-INTERVAL;VALUE=DURATION:PT1H
X-Robots-Tag:noindex
X-PUBLISHED-TTL:PT1H
BEGIN:VTIMEZONE
TZID:America/New_York
BEGIN:DAYLIGHT
TZOFFSETFROM:-0500
TZOFFSETTO:-0400
TZNAME:EDT
DTSTART:20240310T070000
END:DAYLIGHT
BEGIN:STANDARD
TZOFFSETFROM:-0400
TZOFFSETTO:-0500
TZNAME:EST
DTSTART:20241103T060000
END:STANDARD
BEGIN:DAYLIGHT
TZOFFSETFROM:-0500
TZOFFSETTO:-0400
TZNAME:EDT
DTSTART:20250309T070000
END:DAYLIGHT
BEGIN:STANDARD
TZOFFSETFROM:-0400
TZOFFSETTO:-0500
TZNAME:EST
DTSTART:20251102T060000
END:STANDARD
BEGIN:DAYLIGHT
TZOFFSETFROM:-0500
TZOFFSETTO:-0400
TZNAME:EDT
DTSTART:20260308T070000
END:DAYLIGHT
BEGIN:STANDARD
TZOFFSETFROM:-0400
TZOFFSETTO:-0500
TZNAME:EST
DTSTART:20261101T060000
END:STANDARD
END:VTIMEZONE
BEGIN:VEVENT
DTSTART;TZID=America/New_York:20250506T180000
DTEND;TZID=America/New_York:20250506T180000
DTSTAMP:20260421T060825
CREATED:20250429T194958Z
LAST-MODIFIED:20250429T194958Z
UID:10000075-1746554400-1746554400@wlc-de.org
SUMMARY:May 2025 Special Council Meeting
DESCRIPTION:Council Meeting Agenda
URL:https://wlc-de.org/event/may-2025-special-council-meeting/
LOCATION:Red Clay Consolidated School District\, 1502 Spruce Avenue\, Wilmington\, DE\, 19805\, United States
CATEGORIES:Council Meetings
ATTACH;FMTTYPE=image/webp:https://wlc-de.org/wp-content/uploads/2024/06/WLC_Press-Image-1536x608.jpg-1.webp
END:VEVENT
BEGIN:VEVENT
DTSTART;TZID=America/New_York:20250520T180000
DTEND;TZID=America/New_York:20250520T193000
DTSTAMP:20260421T060825
CREATED:20240611T144819Z
LAST-MODIFIED:20250521T195221Z
UID:10000014-1747764000-1747769400@wlc-de.org
SUMMARY:May ‘25 Wilmington Learning Collaborative (WLC) Council Meeting
DESCRIPTION:The Wilmington Learning Collaborative (WLC) is a voluntary network of schools in Wilmington across multiple school districts (Brandywine\, Christina\, Red Clay). The WLC’s goal is to improve outcomes for students by empowering educators\, school leaders\, and communities. The WLC seeks to create a framework for community engagement and impact to improve student achievement and wellness\, improve educator retention rates\, and reduce the impact of student mobility and trauma. \nWhile these meetings are hybrid\, Council Members are strongly encouraged to attend all meetings in person. \nMeeting Agenda\nMeeting Recording\nPassword: ?cz3$ezP
URL:https://wlc-de.org/event/may-2025-council-meeting/
LOCATION:Red Clay Consolidated School District\, 1502 Spruce Avenue\, Wilmington\, DE\, 19805\, United States
CATEGORIES:Council Meetings
ATTACH;FMTTYPE=image/jpeg:https://wlc-de.org/wp-content/uploads/2024/06/WLC_Press-Image.jpg
END:VEVENT
BEGIN:VEVENT
DTSTART;TZID=America/New_York:20250528T170000
DTEND;TZID=America/New_York:20250528T190000
DTSTAMP:20260421T060825
CREATED:20250321T211859Z
LAST-MODIFIED:20250508T193123Z
UID:10000069-1748451600-1748458800@wlc-de.org
SUMMARY:May '25 Wellness Wednesdays
DESCRIPTION:Take a Midweek Pause – May’s Wellness Wednesday is open to all 9 WLC schools and Leaders\, Educators\, and Staff! \nJoin us to unwind\, connect\, and focus on your well-being. Enjoy fresh-pressed juices\, plant-based bites\, mobility stretching\, and guided mindfulness exercises—all designed to help you relax and recharge.
URL:https://wlc-de.org/event/wellness-wednesdays-may-2025/
LOCATION:The Juice Joint 2.0\, 102 S. Union St\, Wilmington\, DE\, 19805\, United States
ATTACH;FMTTYPE=image/webp:https://wlc-de.org/wp-content/uploads/2024/06/WLC_Press-Image-1536x608.jpg-1.webp
END:VEVENT
END:VCALENDAR